BEGIN:VCALENDAR
VERSION:2.0
PRODID:-//Jackson Church of the Nazarene - ECPv6.11.0.1//NONSGML v1.0//EN
CALSCALE:GREGORIAN
METHOD:PUBLISH
X-ORIGINAL-URL:https://jacksonnazarenechurch.org
X-WR-CALDESC:Events for Jackson Church of the Nazarene
REFRESH-INTERVAL;VALUE=DURATION:PT1H
X-Robots-Tag:noindex
X-PUBLISHED-TTL:PT1H
BEGIN:VTIMEZONE
TZID:America/New_York
BEGIN:DAYLIGHT
TZOFFSETFROM:-0500
TZOFFSETTO:-0400
TZNAME:EDT
DTSTART:20260308T070000
END:DAYLIGHT
BEGIN:STANDARD
TZOFFSETFROM:-0400
TZOFFSETTO:-0500
TZNAME:EST
DTSTART:20261101T060000
END:STANDARD
END:VTIMEZONE
BEGIN:VEVENT
DTSTART;TZID=America/New_York:20260407T090000
DTEND;TZID=America/New_York:20260407T120000
DTSTAMP:20260422T062224
CREATED:20221101T135421Z
LAST-MODIFIED:20260303T203403Z
UID:10000008-1775552400-1775563200@jacksonnazarenechurch.org
SUMMARY:Sewing Circle in the Annex
DESCRIPTION:The Sewing Circle meets the first Tuesday of every month in the Annex.  Bring your projects and sew in fellowship!
URL:https://jacksonnazarenechurch.org/event/sewing-circle/
LOCATION:In the Annex
ATTACH;FMTTYPE=image/jpeg:https://jacksonnazarenechurch.org/wp-content/uploads/2022/11/Sewing-with-machine-scaled-e1667310521324.jpg
END:VEVENT
BEGIN:VEVENT
DTSTART;TZID=America/New_York:20260408T190000
DTEND;TZID=America/New_York:20260408T200000
DTSTAMP:20260422T062224
CREATED:20241118T195157Z
LAST-MODIFIED:20260406T154614Z
UID:10000015-1775674800-1775678400@jacksonnazarenechurch.org
SUMMARY:Wednesday Night Meeting Information for this Week!
DESCRIPTION:All Wednesday Night Services will be held this Wednesday at 7:00 PM.  The vans will be running. There will be a meal for the kids and the teens. See you on Wednesday!
URL:https://jacksonnazarenechurch.org/event/wednesday-night-kids-thanksgiving-info/
END:VEVENT
BEGIN:VEVENT
DTSTART;TZID=America/New_York:20260409T130000
DTEND;TZID=America/New_York:20260409T150000
DTSTAMP:20260422T062224
CREATED:20240919T154848Z
LAST-MODIFIED:20260406T154508Z
UID:10000536-1775739600-1775746800@jacksonnazarenechurch.org
SUMMARY:Neighborhood Bible Study
DESCRIPTION:The Bible Study takes place on Thursdays from 1:00-3:00PM in the Annex.  All are welcome!
URL:https://jacksonnazarenechurch.org/event/neighborhood-bible-study/
END:VEVENT
BEGIN:VEVENT
DTSTART;TZID=America/New_York:20260410T190000
DTEND;TZID=America/New_York:20260410T200000
DTSTAMP:20260422T062224
CREATED:20230822T194616Z
LAST-MODIFIED:20260406T154415Z
UID:10000275-1775847600-1775851200@jacksonnazarenechurch.org
SUMMARY:AA Every Friday in the Annex.
DESCRIPTION:
URL:https://jacksonnazarenechurch.org/event/aa-every-friday-in-the-gym-2023-11-03/
ATTACH;FMTTYPE=image/jpeg:https://jacksonnazarenechurch.org/wp-content/uploads/2023/08/BSP_BRONZE_ANNIV_8rhb-ai.jpg
END:VEVENT
BEGIN:VEVENT
DTSTART;TZID=America/New_York:20260417T090000
DTEND;TZID=America/New_York:20260417T100000
DTSTAMP:20260422T062224
CREATED:20250317T222816Z
LAST-MODIFIED:20260324T152535Z
UID:10000797-1776416400-1776420000@jacksonnazarenechurch.org
SUMMARY:Veteran's Breakfast
DESCRIPTION:There will be Veteran’s Breakfast this month!  Our gym will be ready to go for this event!  All Veteran’s and their families are invited to attend this free breakfast.
URL:https://jacksonnazarenechurch.org/event/veterans-breakfast-2/
ATTACH;FMTTYPE=image/jpeg:https://jacksonnazarenechurch.org/wp-content/uploads/2022/12/american-flag-background-hd-image.jpg
END:VEVENT
END:VCALENDAR